BEGIN:VCALENDAR
VERSION:2.0
PRODID:-//Force 24 News - ECPv6.15.19//NONSGML v1.0//EN
CALSCALE:GREGORIAN
METHOD:PUBLISH
X-ORIGINAL-URL:https://force24news.com
X-WR-CALDESC:Events for Force 24 News
REFRESH-INTERVAL;VALUE=DURATION:PT1H
X-Robots-Tag:noindex
X-PUBLISHED-TTL:PT1H
BEGIN:VTIMEZONE
TZID:Europe/London
BEGIN:DAYLIGHT
TZOFFSETFROM:+0000
TZOFFSETTO:+0100
TZNAME:BST
DTSTART:20240331T010000
END:DAYLIGHT
BEGIN:STANDARD
TZOFFSETFROM:+0100
TZOFFSETTO:+0000
TZNAME:GMT
DTSTART:20241027T010000
END:STANDARD
BEGIN:DAYLIGHT
TZOFFSETFROM:+0000
TZOFFSETTO:+0100
TZNAME:BST
DTSTART:20250330T010000
END:DAYLIGHT
BEGIN:STANDARD
TZOFFSETFROM:+0100
TZOFFSETTO:+0000
TZNAME:GMT
DTSTART:20251026T010000
END:STANDARD
BEGIN:DAYLIGHT
TZOFFSETFROM:+0000
TZOFFSETTO:+0100
TZNAME:BST
DTSTART:20260329T010000
END:DAYLIGHT
BEGIN:STANDARD
TZOFFSETFROM:+0100
TZOFFSETTO:+0000
TZNAME:GMT
DTSTART:20261025T010000
END:STANDARD
END:VTIMEZONE
BEGIN:VEVENT
DTSTART;TZID=Europe/London:20250211T093000
DTEND;TZID=Europe/London:20250212T170000
DTSTAMP:20260419T131242
CREATED:20250120T105940Z
LAST-MODIFIED:20250120T105942Z
UID:2645-1739266200-1739379600@force24news.com
SUMMARY:PAST Skills & Methodology: Military History
DESCRIPTION:This workshop is designed to develop the skills of students undertaking research on records relating to military history (1782-present).\n\n\nAre you working on a military related project? Do you want to gain knowledge as to how to navigate records of the War Office\, Air Ministry\, Admiralty\, and Ministry of Defence? Join us for a two-day hybrid (day one online and day two onsite) workshop at The National Archives about how to find and use military records. \nDay One\, held online\, will begin by focusing on developing expertise in finding records in The National Archives and elsewhere. You will learn how best to use the advanced search functionality in Discovery\, our catalogue\, and we will introduce some tips and tricks for archival research. The rest of the day will focus on introducing you to records for the British Army\, Royal Navy\, and Royal Air Force\, as well as the intelligence and secret services. A Teams link will be sent out to attendees two weeks before. \nDay Two\, held onsite\, will be devoted to exploring records relating to Britain’s military involvement overseas\, with an opportunity for hands-on experience with records relating to the armed forces and intelligence services. This session will be held onsite at The National Archives in Kew (there is no online option). \nThe sessions will be linked together by practical exercises allowing attendees to implement their new records and research skills\, using original documents.
URL:https://force24news.com/event/past-skills-methodology-military-history/
LOCATION:The National Archives\, Bessant Drive\, Richmond\, Surrey\, TW9 4DU\, United Kingdom
CATEGORIES:NAFESE
ATTACH;FMTTYPE=image/jpeg:https://force24news.com/wp-content/uploads/2025/01/0e08cba17590b518b766f1afb9a20a86-1.jpg
END:VEVENT
END:VCALENDAR